BEGIN:VCALENDAR
VERSION:2.0
PRODID:-//Startup Colorado - ECPv6.15.20//NONSGML v1.0//EN
CALSCALE:GREGORIAN
METHOD:PUBLISH
X-WR-CALNAME:Startup Colorado
X-ORIGINAL-URL:https://startupcolorado.org
X-WR-CALDESC:Events for Startup Colorado
REFRESH-INTERVAL;VALUE=DURATION:PT1H
X-Robots-Tag:noindex
X-PUBLISHED-TTL:PT1H
BEGIN:VTIMEZONE
TZID:America/Denver
BEGIN:DAYLIGHT
TZOFFSETFROM:-0700
TZOFFSETTO:-0600
TZNAME:MDT
DTSTART:20240310T090000
END:DAYLIGHT
BEGIN:STANDARD
TZOFFSETFROM:-0600
TZOFFSETTO:-0700
TZNAME:MST
DTSTART:20241103T080000
END:STANDARD
BEGIN:DAYLIGHT
TZOFFSETFROM:-0700
TZOFFSETTO:-0600
TZNAME:MDT
DTSTART:20250309T090000
END:DAYLIGHT
BEGIN:STANDARD
TZOFFSETFROM:-0600
TZOFFSETTO:-0700
TZNAME:MST
DTSTART:20251102T080000
END:STANDARD
BEGIN:DAYLIGHT
TZOFFSETFROM:-0700
TZOFFSETTO:-0600
TZNAME:MDT
DTSTART:20260308T090000
END:DAYLIGHT
BEGIN:STANDARD
TZOFFSETFROM:-0600
TZOFFSETTO:-0700
TZNAME:MST
DTSTART:20261101T080000
END:STANDARD
END:VTIMEZONE
BEGIN:VEVENT
DTSTART;TZID=America/Denver:20250813T120000
DTEND;TZID=America/Denver:20250813T130000
DTSTAMP:20260419T071531
CREATED:20250801T190429Z
LAST-MODIFIED:20250806T224502Z
UID:13678-1755086400-1755090000@startupcolorado.org
SUMMARY:Pitch Workshop
DESCRIPTION:Pitch Workshop with Jolene Collins \nAre you ready to pitch your business with confidence? Join us for a virtual Pitch Readiness Session with expert coach Jolene Collins. Whether you’re preparing for the Startup Colorado Pitch Competition at West Slope Startup Week or simply want to sharpen your business storytelling\, this session will help you refine your message and deliver it with clarity and impact. \nWhat you’ll learn: \n\nHow to introduce yourself and your company\nDefining the problem you’re solving\nExplaining your solution and business model\nUnderstanding your customer and market opportunity\nShowcasing key milestones and your team\nPerfecting “The Ask” – what you need and why it matters\nBest practices for presenting with confidence\n\nAugust 13\, 2025 | 12–1pm MT on Zoom
URL:https://startupcolorado.org/event/pitch-workshop/
LOCATION:Online
CATEGORIES:Community
ATTACH;FMTTYPE=image/png:https://startupcolorado.org/wp-content/uploads/2025/08/Pitch-Competition-event-banners-1352-x-698-px-2.png
END:VEVENT
END:VCALENDAR