BEGIN:VCALENDAR
VERSION:2.0
PRODID:-//Startup Colorado - ECPv6.15.20//NONSGML v1.0//EN
CALSCALE:GREGORIAN
METHOD:PUBLISH
X-ORIGINAL-URL:https://startupcolorado.org
X-WR-CALDESC:Events for Startup Colorado
REFRESH-INTERVAL;VALUE=DURATION:PT1H
X-Robots-Tag:noindex
X-PUBLISHED-TTL:PT1H
BEGIN:VTIMEZONE
TZID:America/Denver
BEGIN:DAYLIGHT
TZOFFSETFROM:-0700
TZOFFSETTO:-0600
TZNAME:MDT
DTSTART:20250309T090000
END:DAYLIGHT
BEGIN:STANDARD
TZOFFSETFROM:-0600
TZOFFSETTO:-0700
TZNAME:MST
DTSTART:20251102T080000
END:STANDARD
BEGIN:DAYLIGHT
TZOFFSETFROM:-0700
TZOFFSETTO:-0600
TZNAME:MDT
DTSTART:20260308T090000
END:DAYLIGHT
BEGIN:STANDARD
TZOFFSETFROM:-0600
TZOFFSETTO:-0700
TZNAME:MST
DTSTART:20261101T080000
END:STANDARD
BEGIN:DAYLIGHT
TZOFFSETFROM:-0700
TZOFFSETTO:-0600
TZNAME:MDT
DTSTART:20270314T090000
END:DAYLIGHT
BEGIN:STANDARD
TZOFFSETFROM:-0600
TZOFFSETTO:-0700
TZNAME:MST
DTSTART:20271107T080000
END:STANDARD
BEGIN:DAYLIGHT
TZOFFSETFROM:-0700
TZOFFSETTO:-0600
TZNAME:MDT
DTSTART:20280312T090000
END:DAYLIGHT
BEGIN:STANDARD
TZOFFSETFROM:-0600
TZOFFSETTO:-0700
TZNAME:MST
DTSTART:20281105T080000
END:STANDARD
END:VTIMEZONE
BEGIN:VEVENT
DTSTART;VALUE=DATE:20260914
DTEND;VALUE=DATE:20260919
DTSTAMP:20260421T025853
CREATED:20251227T182924Z
LAST-MODIFIED:20251227T182924Z
UID:10000172-1789344000-1789775999@startupcolorado.org
SUMMARY:Colorado Startup Week
DESCRIPTION:Colorado Startup Week is a free\, community-driven celebration of bold ideas and entrepreneurial spirit—across Colorado and beyond. As the largest event of its kind in North America\, CSW brings together over 10\,000 founders\, investors\, creatives\, and changemakers for a week of learning\, inspiration\, and connection. \nDriven by the community\, for the community\, Colorado Startup Week unites the state’s entrepreneurial ecosystem\, connects a global network of like-minded innovators\, and celebrates the people\, companies\, and ideas shaping what’s next. With hundreds of sessions spanning topics from robotics to fundraising\, CSW offers something for everyone who believes in building the future. \nAt Colorado Startup Week\, we are committed to creating an inclusive space where all attendees can connect\, learn\, and grow—regardless of gender identity\, gender expression\, race\, ability\, sexual orientation\, or any combination of those identities.
URL:https://startupcolorado.org/event/colorado-startup-week/
LOCATION:Denver
CATEGORIES:Community,Conference,Networking
ATTACH;FMTTYPE=image/png:https://startupcolorado.org/wp-content/uploads/2025/12/Screenshot-2025-12-27-at-1.24.16-PM-scaled.png
END:VEVENT
BEGIN:VEVENT
DTSTART;VALUE=DATE:20261005
DTEND;VALUE=DATE:20261010
DTSTAMP:20260421T025854
CREATED:20260121T002138Z
LAST-MODIFIED:20260121T002547Z
UID:10000240-1791158400-1791590399@startupcolorado.org
SUMMARY:West Slope Startup Week
DESCRIPTION:West Slope Startup Week will be back in Durango\, October 5-9th\, 2026!  \nWest Slope Startup Week is five days of connection\, community\, and collaboration. See more about our past events here. \nTimeline: \nJanuary 31st — Track Captain apps close \nMarch — Speakers apps opens \nApril — Night Market apps open \nMay — Speakers apps and Night Market apps close \nAugust — Registration Opens\, Program Announced \nOctober — WSSW 🎉 \nSponsorship inquiries: development@startupcolorado.org \nLeadership inquiries: olivia@startupcolorado.org \n— Stay subscribed for updates\n— Sponsor this event!
URL:https://startupcolorado.org/event/west-slope-startup-week/
LOCATION:Downtown Durango
CATEGORIES:Community,Conference,Networking
ATTACH;FMTTYPE=image/png:https://startupcolorado.org/wp-content/uploads/2026/01/West-Slope-Startup-Week-2026.png
ORGANIZER;CN="Olivia Reed":MAILTO:olivia@startupcolorado.org
END:VEVENT
BEGIN:VEVENT
DTSTART;TZID=America/Denver:20270107T090000
DTEND;TZID=America/Denver:20270107T100000
DTSTAMP:20260421T025854
CREATED:20260121T190442Z
LAST-MODIFIED:20260121T190442Z
UID:10000243-1799312400-1799316000@startupcolorado.org
SUMMARY:XI Tech Connect: Coffee & Community
DESCRIPTION:​At Exponential Impact (XI)\, we believe that innovation thrives through connection. That’s why we host Tech Connect: Coffee & Community – a weekly gathering designed for tech-driven entrepreneurs\, founders\, and startups who are shaping the future through new and emerging technologies. \nWhether you’re developing AI solutions\, building robotics\, designing software\, or exploring ways to improve business operations\, this is your space to connect\, collaborate\, and share ideas with others on a similar journey. \nJoin us every Thursday\, 9:00–10:00 AM (through March 25th\, 2027) at Exponential Impact HQ\, 3650 N Nevada Ave\, Colorado Springs\, CO 80907. \nCome for the coffee. Stay for the community. Let’s build something great together.
URL:https://startupcolorado.org/event/xi-tech-connect-coffee-community-4/
LOCATION:Exponential Impact HQ\, 3650 N Nevada Ave\, Colorado Springs\, CO\, 80907\, United States
CATEGORIES:Community
ATTACH;FMTTYPE=image/png:https://startupcolorado.org/wp-content/uploads/2026/01/Tech-Connect-LinkedIn.png
ORGANIZER;CN="Exponential Impact":MAILTO:jmhorst@exponentialimpact.com
END:VEVENT
END:VCALENDAR